BEGIN:VCALENDAR
VERSION:2.0
PRODID:-//wp-events-plugin.com//7.2.3.1//EN
TZID:Europe/Berlin
X-WR-TIMEZONE:Europe/Berlin
BEGIN:VEVENT
UID:34@marc-delpy.de
DTSTART;TZID=Europe/Berlin:20250628T120000
DTEND;TZID=Europe/Berlin:20250628T140000
DTSTAMP:20250226T165452Z
URL:https://marc-delpy.de/events/live-musik-les-for-me-dables-trio/
SUMMARY:Live Musik/Les For me-dables (Trio)
DESCRIPTION:Im Rahmen der Veranstaltung "GardenFiesta"
ATTACH;FMTTYPE=image/jpeg:https://i0.wp.com/marc-delpy.de/wp-content/uploa
 ds/2024/04/2023_Plakat_LesForMeDables_ohne-Blankofeld.jpg?fit=594%2C600&ss
 l=1
LOCATION:Bürgerpark Grüne Mitte/Parkforum\, Weinstadt (Beutelsbach)\, Stu
 ttgarter Strasse\, Weinstadt-Beutelsbach\, Baden Württemberg\, 71384\, Ba
 den-Württemberg\, Deutschland
X-APPLE-STRUCTURED-LOCATION;VALUE=URI;X-ADDRESS=Stuttgarter Strasse\, Weins
 tadt-Beutelsbach\, Baden Württemberg\, 71384\, Baden-Württemberg\, Deuts
 chland;X-APPLE-RADIUS=100;X-TITLE=Bürgerpark Grüne Mitte/Parkforum\, Wei
 nstadt (Beutelsbach):geo:0,0
END:VEVENT
BEGIN:VTIMEZONE
TZID:Europe/Berlin
X-LIC-LOCATION:Europe/Berlin
BEGIN:DAYLIGHT
DTSTART:20250330T030000
TZOFFSETFROM:+0100
TZOFFSETTO:+0200
TZNAME:CEST
END:DAYLIGHT
END:VTIMEZONE
END:VCALENDAR