BEGIN:VCALENDAR
VERSION:2.0
PRODID:-//wp-events-plugin.com//7.2.3.1//EN
TZID:Europe/Berlin
X-WR-TIMEZONE:Europe/Berlin
BEGIN:VEVENT
UID:12@marc-delpy.de
DTSTART;TZID=Europe/Berlin:20250411T200000
DTEND;TZID=Europe/Berlin:20250411T220000
DTSTAMP:20240530T145223Z
URL:https://marc-delpy.de/events/konzert-les-for-me-dables-7/
SUMMARY:Konzert/Les For me-dables
DESCRIPTION:
ATTACH;FMTTYPE=image/jpeg:https://i0.wp.com/marc-delpy.de/wp-content/uploa
 ds/2024/04/2023_Plakat_LesForMeDables_ohne-Blankofeld.jpg?fit=594%2C600&ss
 l=1
LOCATION:Theater La Lune\, Stuttgart\, Gablenbergler Hauptstrasse 130\, Stu
 ttgart\, Baden Württemberg\, 70186\, Baden-Württemberg\, Demokratische V
 olksrepublik Korea
X-APPLE-STRUCTURED-LOCATION;VALUE=URI;X-ADDRESS=Gablenbergler Hauptstrasse 
 130\, Stuttgart\, Baden Württemberg\, 70186\, Baden-Württemberg\, Demokr
 atische Volksrepublik Korea;X-APPLE-RADIUS=100;X-TITLE=Theater La Lune\, S
 tuttgart:geo:0,0
END:VEVENT
BEGIN:VTIMEZONE
TZID:Europe/Berlin
X-LIC-LOCATION:Europe/Berlin
BEGIN:DAYLIGHT
DTSTART:20250330T030000
TZOFFSETFROM:+0100
TZOFFSETTO:+0200
TZNAME:CEST
END:DAYLIGHT
END:VTIMEZONE
END:VCALENDAR